6.50000000000000E+0001
0.00000000000000E+0000
0.00000000000000E+0000
-6.50000000000000E+0001
5.52065000000000E+0005
4.76045000000000E+0005
